BEGIN:VCALENDAR
VERSION:2.0
PRODID:-//GANETTC - ECPv6.2.8.2//NONSGML v1.0//EN
CALSCALE:GREGORIAN
METHOD:PUBLISH
X-WR-CALNAME:GANETTC
X-ORIGINAL-URL:https://wrm.osaka
X-WR-CALDESC:GANETTC のイベント
REFRESH-INTERVAL;VALUE=DURATION:PT1H
X-Robots-Tag:noindex
X-PUBLISHED-TTL:PT1H
BEGIN:VTIMEZONE
TZID:Asia/Tokyo
BEGIN:STANDARD
TZOFFSETFROM:+0900
TZOFFSETTO:+0900
TZNAME:JST
DTSTART:20230101T000000
END:STANDARD
END:VTIMEZONE
BEGIN:VEVENT
DTSTART;TZID=Asia/Tokyo:20230528T100000
DTEND;TZID=Asia/Tokyo:20230528T140000
DTSTAMP:20260426T132214
CREATED:20230331T054937Z
LAST-MODIFIED:20230501T125439Z
UID:10015750-1685268000-1685282400@wrm.osaka
SUMMARY:第8回GANE TTC卓球大会 『チャレンジマッチ』初中級の部 2023/5/28 10-14時
DESCRIPTION:SEASON1　第7回シングルス大会「チャレンジマッチ」初中級の部（GANE TTCポイント認定大会） \n日時：2023年5月28日（日）　10:00開始　14:00終了予定\n場所：大国町 GANE-TTC　（大阪府大阪市浪速区元町3-10-4　晋陽ビル4F）\n試合形式：男女混合シングルス戦\n主催：大国町GANE-TTC、PLATFOMR-5　５番線卓球場\n参加費：1\,500円\n定員：25名\nお申込み方法：当イベントページより「予約チケット」を入手いただくと申込が完了いたします \n予選リーグ：５～６名の総当り、３ゲームマッチ（２ゲーム先取）\n決勝トーナメント：予選上位選手をシード枠と設定、全参加者で５ゲームマッチ（３ゲーム先取）のトーナメント \n☆決勝トーナメントで敗退した場合でも、敗者同士でランダムに組み合わせを決めて試合を行います。負けても大会終了時刻まで繰り返し試合できます！ \n☆こちらは初中級クラスの大会です。羽曳野レイティングポイント1750以下の方を想定しています。腕前に自信がある方は中上級の部へご参加下さい！ \nGANE TTCポイント認定大会です\n優勝者600p\nを基準に、以下順位に合わせてポイントを付与いたします
URL:https://wrm.osaka/event/%e7%ac%ac8%e5%9b%9egane-ttc%e5%8d%93%e7%90%83%e5%a4%a7%e4%bc%9a-%e3%80%8e%e3%83%81%e3%83%a3%e3%83%ac%e3%83%b3%e3%82%b8%e3%83%9e%e3%83%83%e3%83%81%e3%80%8f%e5%88%9d%e4%b8%ad%e7%b4%9a%e3%81%ae%e9%83%a8/
LOCATION:恵美須町 GANE-TTC\, 大阪府大阪市浪速区日本橋5-13-3\, 川北ビル５階
CATEGORIES:試合・大会
END:VEVENT
BEGIN:VEVENT
DTSTART;TZID=Asia/Tokyo:20230519T100000
DTEND;TZID=Asia/Tokyo:20230519T160000
DTSTAMP:20260426T132214
CREATED:20230331T053937Z
LAST-MODIFIED:20230331T054449Z
UID:10015748-1684490400-1684512000@wrm.osaka
SUMMARY:5/19平日大会 男女混合シングルス
DESCRIPTION:第5回平日大会 男女混合シングルス（GANE TTCポイント認定大会） \n日時：2023年5月19日（金）　10:00開始　16:00終了予定\n場所：大国町 GANE-TTC　（大阪府大阪市浪速区元町3-10-4　晋陽ビル4F） \n内容：男女混合シングルス大会 \n★試合に負けてしまった後も、ゲーム練習や練習で楽しんで頂いて構いません。 \n試合形式：男女混合シングルス大会\n主催：大国町GANE-TTC、PLATFOMR-5　５番線卓球場\n参加費：1\,500円\n定員：25人 \n電話でのご予約 080-1405-6067 \nお申込み方法：当イベントページより「予約チケット」を入手いただくと申込が完了いたします \n予選リーグ：５名の総当り、３ゲームマッチ又は、５ゲームマッチ（人数が少ない場合は、５ゲームマッチでやらせて頂きます）\n決勝トーナメント：予選上位選手をシード枠と設定、全参加者で５ゲームマッチ（３ゲーム先取）のトーナメント \n☆決勝トーナメントで敗退した場合でも、敗者同士でランダムに組み合わせを決めて試合を行います。負けても大会終了時刻まで繰り返し試合できます！ \nGANE TTCポイント認定大会です\n優勝者600p\nを基準に、以下順位に合わせてポイントを付与いたします
URL:https://wrm.osaka/event/5-19%e5%b9%b3%e6%97%a5%e5%a4%a7%e4%bc%9a-%e7%94%b7%e5%a5%b3%e6%b7%b7%e5%90%88%e3%82%b7%e3%83%b3%e3%82%b0%e3%83%ab%e3%82%b9/
CATEGORIES:試合・大会
END:VEVENT
BEGIN:VEVENT
DTSTART;TZID=Asia/Tokyo:20230513T100000
DTEND;TZID=Asia/Tokyo:20230513T140000
DTSTAMP:20260426T132214
CREATED:20230331T050804Z
LAST-MODIFIED:20230510T095929Z
UID:10015745-1683972000-1683986400@wrm.osaka
SUMMARY:第7回GANE TTC卓球大会 『チャレンジマッチ』初中級の部 2023/5/13 10-14時
DESCRIPTION:SEASON1　第7回シングルス大会「チャレンジマッチ」初中級の部（GANE TTCポイント認定大会） \n日時：2023年5月13日（土）　10:00開始　14:00終了予定\n場所：大国町 GANE-TTC　（大阪府大阪市浪速区元町3-10-4　晋陽ビル4F）\n試合形式：男女混合シングルス戦\n主催：大国町GANE-TTC、PLATFOMR-5　５番線卓球場\n参加費：1\,500円\n定員：25名\nお申込み方法：当イベントページより「予約チケット」を入手いただくと申込が完了いたします \n予選リーグ：５～６名の総当り、３ゲームマッチ（２ゲーム先取）\n決勝トーナメント：予選上位選手をシード枠と設定、全参加者で５ゲームマッチ（３ゲーム先取）のトーナメント \n☆決勝トーナメントで敗退した場合でも、敗者同士でランダムに組み合わせを決めて試合を行います。負けても大会終了時刻まで繰り返し試合できます！ \n☆こちらは初中級クラスの大会です。羽曳野レイティングポイント1750以下の方を想定しています。腕前に自信がある方は中上級の部へご参加下さい！ \nGANE TTCポイント認定大会です\n優勝者600p\nを基準に、以下順位に合わせてポイントを付与いたします
URL:https://wrm.osaka/event/%e7%ac%ac7%e5%9b%9egane-ttc%e5%8d%93%e7%90%83%e5%a4%a7%e4%bc%9a-%e3%80%8e%e3%83%81%e3%83%a3%e3%83%ac%e3%83%b3%e3%82%b8%e3%83%9e%e3%83%83%e3%83%81%e3%80%8f%e5%88%9d%e4%b8%ad%e7%b4%9a%e3%81%ae-2/
LOCATION:恵美須町 GANE-TTC\, 大阪府大阪市浪速区日本橋5-13-3\, 川北ビル５階
CATEGORIES:試合・大会
END:VEVENT
BEGIN:VEVENT
DTSTART;TZID=Asia/Tokyo:20230506T100000
DTEND;TZID=Asia/Tokyo:20230506T190000
DTSTAMP:20260426T132214
CREATED:20230331T053625Z
LAST-MODIFIED:20230331T053722Z
UID:10015747-1683367200-1683399600@wrm.osaka
SUMMARY:5/6　藤沢食品杯　ステーキ肉争奪戦
DESCRIPTION:第2回シングルス大会「藤沢食品杯　ステーキ肉争奪戦」（GANE TTCポイント1500レベル認定大会） \n日時：2023年5月6日　10:00開始　19:00終了予定\n場所：大国町 GANE-TTC　（大阪府大阪市浪速区元町3-10-4　晋陽ビル4F）\n試合形式：男女混合シングルス戦　５ゲームマッチ（３ゲーム先取）\n主催：大国町GANE-TTC、PLATFOMR-5　５番線卓球場\n参加費：1\,800円\nお申込み方法：当イベントページより「予約チケット」の購入 \n予選リーグ（3ゲームマッチ「2ゲーム先取」の可能性有り）→上位、下位に別れて決勝トーナメント戦（人数によっては決勝リーグ戦） \nGANE TTCポイント1500pレベルの大会です\n優勝者に1500p、以下順位に合わせてポイントを付与いたします \n協賛：藤沢食品様のご紹介\nhttps://tabelog.com/osaka/A2707/A270701/27077646/\n大阪府守口市日吉町１丁目７−１　太子橋今市駅から158m\n定休日　水曜日\n営業時間　10:00～19:00 \nhttps://www.youtube.com/watch?v=EnbsdO1pT8c
URL:https://wrm.osaka/event/5-6%e3%80%80%e8%97%a4%e6%b2%a2%e9%a3%9f%e5%93%81%e6%9d%af%e3%80%80%e3%82%b9%e3%83%86%e3%83%bc%e3%82%ad%e8%82%89%e4%ba%89%e5%a5%aa%e6%88%a6/
LOCATION:恵美須町 GANE-TTC\, 大阪府大阪市浪速区日本橋5-13-3\, 川北ビル５階
CATEGORIES:試合・大会
END:VEVENT
BEGIN:VEVENT
DTSTART;TZID=Asia/Tokyo:20230505T100000
DTEND;TZID=Asia/Tokyo:20230505T160000
DTSTAMP:20260426T132214
CREATED:20230331T104334Z
LAST-MODIFIED:20230331T104426Z
UID:10015751-1683280800-1683302400@wrm.osaka
SUMMARY:5/5 第2回ハンドソウの岩城ラージボール大会
DESCRIPTION:第2回ハンドソウの岩城ラージボール大会 \n日時：2023年5月5日（金）　10:00開始　15:00終了予定\n場所：大国町 GANE-TTC　（大阪府大阪市浪速区元町3-10-4　晋陽ビル4F） \n内容：男女混合ラージボールシングルス大会 \n試合形式：男女混合ラージボールシングルス大会\n主催：大国町GANE-TTC、PLATFOMR-5　５番線卓球場\n参加費：1\,500円\n定員：25人 \n電話でのご予約 080-1405-6067 \nお申込み方法：当イベントページより「予約チケット」を入手いただくと申込が完了いたします \n予選リーグ：３ゲームマッチ2セット先取 \n決勝トーナメント：上位トーナメントと下位トーナメントで分けて、試合を行います。 \nボール：VICTAS 3スター
URL:https://wrm.osaka/event/5-5%e5%b9%b3%e6%97%a5%e5%a4%a7%e4%bc%9a-%e7%ac%ac2%e5%9b%9e%e3%83%8f%e3%83%b3%e3%83%89%e3%82%bd%e3%82%a6%e3%81%ae%e5%b2%a9%e5%9f%8e%e3%83%a9%e3%83%bc%e3%82%b8%e3%83%9c%e3%83%bc%e3%83%ab%e5%a4%a7/
CATEGORIES:試合・大会
END:VEVENT
BEGIN:VEVENT
DTSTART;TZID=Asia/Tokyo:20230504T100000
DTEND;TZID=Asia/Tokyo:20230504T190000
DTSTAMP:20260426T132214
CREATED:20230331T052523Z
LAST-MODIFIED:20230331T053452Z
UID:10015746-1683194400-1683226800@wrm.osaka
SUMMARY:5/4　藤沢食品杯　ステーキ肉争奪戦
DESCRIPTION:第2回シングルス大会「藤沢食品杯　ステーキ肉争奪戦」（GANE TTCポイント1500レベル認定大会） \n日時：2023年5月4日　10:00開始　19:00終了予定\n場所：大国町 GANE-TTC　（大阪府大阪市浪速区元町3-10-4　晋陽ビル4F）\n試合形式：男女混合シングルス戦　５ゲームマッチ（３ゲーム先取）\n主催：大国町GANE-TTC、PLATFOMR-5　５番線卓球場\n参加費：1\,800円\nお申込み方法：当イベントページより「予約チケット」の購入 \n予選リーグ（3ゲームマッチ「2ゲーム先取」の可能性有り）→上位、下位に別れて決勝トーナメント戦（人数によっては決勝リーグ戦） \nGANE TTCポイント1500pレベルの大会です\n優勝者に1500p、以下順位に合わせてポイントを付与いたします \n協賛：藤沢食品様のご紹介\nhttps://tabelog.com/osaka/A2707/A270701/27077646/\n大阪府守口市日吉町１丁目７−１　太子橋今市駅から158m\n定休日　水曜日\n営業時間　10:00～19:00 \nhttps://www.youtube.com/watch?v=EnbsdO1pT8c
URL:https://wrm.osaka/event/5-4%e3%80%80%e8%97%a4%e6%b2%a2%e9%a3%9f%e5%93%81%e6%9d%af%e3%80%80%e3%82%b9%e3%83%86%e3%83%bc%e3%82%ad%e8%82%89%ef%bc%86%e3%81%8a%e7%b1%b3%e4%ba%89%e5%a5%aa%e6%88%a6/
LOCATION:恵美須町 GANE-TTC\, 大阪府大阪市浪速区日本橋5-13-3\, 川北ビル５階
CATEGORIES:試合・大会
END:VEVENT
BEGIN:VEVENT
DTSTART;TZID=Asia/Tokyo:20230430T110000
DTEND;TZID=Asia/Tokyo:20230430T123000
DTSTAMP:20260426T132214
CREATED:20230422T073024Z
LAST-MODIFIED:20230422T073631Z
UID:10015760-1682852400-1682857800@wrm.osaka
SUMMARY:GW特別イベント 朝田まい 卓球教室 4/30 11時～12時半
DESCRIPTION:朝田まい卓球教室をGW特別イベントとして行います。 \n前回大人気だった朝田まいコーチの卓球教室を行います。 \n朝田まいさんの卓球教室＋GANETTCで人気な1000円打ち放題付きで　なんと3000円！！超お得なレッスンになっています。 \n限定7名なのでご予約はお早めに！！ \n  \n個人レッスンご予約はこちらから↓ \nhttps://docs.google.com/forms/d/e/1FAIpQLSck_BZENV_MCk68s9662yTpkl4uDta2e5mysF3d4t3iejCfLA/viewform
URL:https://wrm.osaka/event/gw%e7%89%b9%e5%88%a5%e3%82%a4%e3%83%99%e3%83%b3%e3%83%88-%e6%9c%9d%e7%94%b0%e3%81%be%e3%81%84-%e5%8d%93%e7%90%83%e6%95%99%e5%ae%a4-4-30-11%e6%99%82%ef%bd%9e12%e6%99%82%e5%8d%8a/
CATEGORIES:グループレッスン
END:VEVENT
BEGIN:VEVENT
DTSTART;TZID=Asia/Tokyo:20230429T140000
DTEND;TZID=Asia/Tokyo:20230429T190000
DTSTAMP:20260426T132214
CREATED:20230329T064448Z
LAST-MODIFIED:20230329T065337Z
UID:10015739-1682776800-1682794800@wrm.osaka
SUMMARY:第7回GANE TTC卓球大会 『チャレンジマッチ戦』中上級の部  2023/4/29 14-19時
DESCRIPTION:SEASON1　第6回シングルス大会　中上級の部（GANE TTCポイント認定大会）\n『チャレンジマッチ戦』中上級の部 \n日時：2023年4月29日（土）　14:00開始　19:00終了予定\n開場：14:00を予定（10:00に試合開始いたしますのでお早めにお集まり下さい）\n場所：大国町 GANE-TTC　（大阪府大阪市浪速区元町3-10-4　晋陽ビル4F） \n試合形式：男女混合シングルス戦\n主催：大国町GANE-TTC、PLATFOMR-5　５番線卓球場\n参加費：1\,500円\n定員：24名\nお申込み方法：当イベントページより「予約チケット」を入手いただくと申込が完了いたします \n予選リーグ：５～６名の総当り、３ゲームマッチ（２ゲーム先取）\n決勝トーナメント：予選上位選手をシード枠と設定、全参加者で５ゲームマッチ（３ゲーム先取）のトーナメント \n☆決勝トーナメントで敗退した場合でも、敗者同士でランダムに組み合わせを決めて試合を行います。負けても大会終了時刻まで繰り返し試合できます！ \n☆こちらは中上級クラスの大会です。羽曳野レイティングポイント1750以上の方を想定しています。腕前に自信がある方は中上級の部へご参加下さい！ \nGANE TTCポイント認定大会です\n優勝者600p\nを基準に、以下順位に合わせてポイントを付与いたします
URL:https://wrm.osaka/event/%e7%ac%ac7%e5%9b%9egane-ttc%e5%8d%93%e7%90%83%e5%a4%a7%e4%bc%9a-%e3%80%8e%e3%83%81%e3%83%a3%e3%83%ac%e3%83%b3%e3%82%b8%e3%83%9e%e3%83%83%e3%83%81%e6%88%a6%e3%80%8f%e4%b8%ad%e4%b8%8a%e7%b4%9a%e3%81%ae/
LOCATION:恵美須町 GANE-TTC\, 大阪府大阪市浪速区日本橋5-13-3\, 川北ビル５階
CATEGORIES:試合・大会
END:VEVENT
BEGIN:VEVENT
DTSTART;TZID=Asia/Tokyo:20230429T100000
DTEND;TZID=Asia/Tokyo:20230429T140000
DTSTAMP:20260426T132214
CREATED:20230329T064520Z
LAST-MODIFIED:20230329T065326Z
UID:10015738-1682762400-1682776800@wrm.osaka
SUMMARY:第7回GANE TTC卓球大会 『チャレンジマッチ』初中級の部 2023/4/29 14-19時
DESCRIPTION:SEASON1　第7回シングルス大会「チャレンジマッチ」初中級の部（GANE TTCポイント認定大会） \n日時：2023年4月29日（土）　10:00開始　14:00終了予定\n場所：大国町 GANE-TTC　（大阪府大阪市浪速区元町3-10-4　晋陽ビル4F）\n試合形式：男女混合シングルス戦\n主催：大国町GANE-TTC、PLATFOMR-5　５番線卓球場\n参加費：1\,500円\n定員：25名\nお申込み方法：当イベントページより「予約チケット」を入手いただくと申込が完了いたします \n予選リーグ：５～６名の総当り、３ゲームマッチ（２ゲーム先取）\n決勝トーナメント：予選上位選手をシード枠と設定、全参加者で５ゲームマッチ（３ゲーム先取）のトーナメント \n☆決勝トーナメントで敗退した場合でも、敗者同士でランダムに組み合わせを決めて試合を行います。負けても大会終了時刻まで繰り返し試合できます！ \n☆こちらは初中級クラスの大会です。羽曳野レイティングポイント1750以下の方を想定しています。腕前に自信がある方は中上級の部へご参加下さい！ \nGANE TTCポイント認定大会です\n優勝者600p\nを基準に、以下順位に合わせてポイントを付与いたします
URL:https://wrm.osaka/event/%e7%ac%ac7%e5%9b%9egane-ttc%e5%8d%93%e7%90%83%e5%a4%a7%e4%bc%9a-%e3%80%8e%e3%83%81%e3%83%a3%e3%83%ac%e3%83%b3%e3%82%b8%e3%83%9e%e3%83%83%e3%83%81%e3%80%8f%e5%88%9d%e4%b8%ad%e7%b4%9a%e3%81%ae%e9%83%a8/
LOCATION:恵美須町 GANE-TTC\, 大阪府大阪市浪速区日本橋5-13-3\, 川北ビル５階
CATEGORIES:試合・大会
END:VEVENT
BEGIN:VEVENT
DTSTART;TZID=Asia/Tokyo:20230421T080000
DTEND;TZID=Asia/Tokyo:20230421T170000
DTSTAMP:20260426T132214
CREATED:20230329T070019Z
LAST-MODIFIED:20230329T070055Z
UID:10015740-1682064000-1682096400@wrm.osaka
SUMMARY:4/21平日大会 男女混合シングルス
DESCRIPTION:第5回平日大会 男女混合シングルス（GANE TTCポイント認定大会） \n日時：2023年4月21日（金）　10:00開始　16:00終了予定\n場所：大国町 GANE-TTC　（大阪府大阪市浪速区元町3-10-4　晋陽ビル4F） \n内容：男女混合シングルス大会 \n★試合に負けてしまった後も、ゲーム練習や練習で楽しんで頂いて構いません。 \n試合形式：男女混合シングルス大会\n主催：大国町GANE-TTC、PLATFOMR-5　５番線卓球場\n参加費：1\,500円\n定員：25人 \n電話でのご予約 080-1405-6067 \nお申込み方法：当イベントページより「予約チケット」を入手いただくと申込が完了いたします \n予選リーグ：５名の総当り、３ゲームマッチ又は、５ゲームマッチ（人数が少ない場合は、５ゲームマッチでやらせて頂きます）\n決勝トーナメント：予選上位選手をシード枠と設定、全参加者で５ゲームマッチ（３ゲーム先取）のトーナメント \n☆決勝トーナメントで敗退した場合でも、敗者同士でランダムに組み合わせを決めて試合を行います。負けても大会終了時刻まで繰り返し試合できます！ \nGANE TTCポイント認定大会です\n優勝者600p\nを基準に、以下順位に合わせてポイントを付与いたします
URL:https://wrm.osaka/event/4-21%e5%b9%b3%e6%97%a5%e5%a4%a7%e4%bc%9a-%e7%94%b7%e5%a5%b3%e6%b7%b7%e5%90%88%e3%82%b7%e3%83%b3%e3%82%b0%e3%83%ab%e3%82%b9/
CATEGORIES:試合・大会
END:VEVENT
BEGIN:VEVENT
DTSTART;TZID=Asia/Tokyo:20230416T140000
DTEND;TZID=Asia/Tokyo:20230416T190000
DTSTAMP:20260426T132214
CREATED:20230217T021538Z
LAST-MODIFIED:20230329T065449Z
UID:10015708-1681653600-1681671600@wrm.osaka
SUMMARY:第6回GANE TTC卓球大会 『チャレンジマッチ戦』中上級の部 2023/4/16 14-19時
DESCRIPTION:SEASON1　第6回シングルス大会　中上級の部（GANE TTCポイント認定大会）\n『チャレンジマッチ戦』中上級の部 \n日時：2023年4月16日（日）　14:00開始　19:00終了予定\n開場：14:00を予定（10:00に試合開始いたしますのでお早めにお集まり下さい）\n場所：大国町 GANE-TTC　（大阪府大阪市浪速区元町3-10-4　晋陽ビル4F） \n試合形式：男女混合シングルス戦\n主催：大国町GANE-TTC、PLATFOMR-5　５番線卓球場\n参加費：1\,500円\n定員：24名\nお申込み方法：当イベントページより「予約チケット」を入手いただくと申込が完了いたします \n予選リーグ：５～６名の総当り、３ゲームマッチ（２ゲーム先取）\n決勝トーナメント：予選上位選手をシード枠と設定、全参加者で５ゲームマッチ（３ゲーム先取）のトーナメント \n☆決勝トーナメントで敗退した場合でも、敗者同士でランダムに組み合わせを決めて試合を行います。負けても大会終了時刻まで繰り返し試合できます！ \n☆こちらは中上級クラスの大会です。羽曳野レイティングポイント1750以上の方を想定しています。腕前に自信がある方は中上級の部へご参加下さい！ \nGANE TTCポイント認定大会です\n優勝者600p\nを基準に、以下順位に合わせてポイントを付与いたします
URL:https://wrm.osaka/event/%e7%ac%ac4%e5%9b%9egane-ttc%e5%8d%93%e7%90%83%e5%a4%a7%e4%bc%9a-%e3%80%8e%e3%83%81%e3%83%a3%e3%83%ac%e3%83%b3%e3%82%b8%e3%83%9e%e3%83%83%e3%83%81%e6%88%a6%e3%80%8f%e4%b8%ad%e4%b8%8a%e7%b4%9a-2/
LOCATION:恵美須町 GANE-TTC\, 大阪府大阪市浪速区日本橋5-13-3\, 川北ビル５階
CATEGORIES:試合・大会
END:VEVENT
BEGIN:VEVENT
DTSTART;TZID=Asia/Tokyo:20230416T100000
DTEND;TZID=Asia/Tokyo:20230416T140000
DTSTAMP:20260426T132214
CREATED:20230217T021700Z
LAST-MODIFIED:20230329T065528Z
UID:10015709-1681639200-1681653600@wrm.osaka
SUMMARY:第6回GANE TTC卓球大会 『チャレンジマッチ』初中級の部 2023/4/16 14-19時
DESCRIPTION:SEASON1　第6回シングルス大会「チャレンジマッチ」初中級の部（GANE TTCポイント認定大会） \n日時：2023年4月16日（日）　10:00開始　14:00終了予定\n場所：大国町 GANE-TTC　（大阪府大阪市浪速区元町3-10-4　晋陽ビル4F）\n試合形式：男女混合シングルス戦\n主催：大国町GANE-TTC、PLATFOMR-5　５番線卓球場\n参加費：1\,500円\n定員：25名\nお申込み方法：当イベントページより「予約チケット」を入手いただくと申込が完了いたします \n予選リーグ：５～６名の総当り、３ゲームマッチ（２ゲーム先取）\n決勝トーナメント：予選上位選手をシード枠と設定、全参加者で５ゲームマッチ（３ゲーム先取）のトーナメント \n☆決勝トーナメントで敗退した場合でも、敗者同士でランダムに組み合わせを決めて試合を行います。負けても大会終了時刻まで繰り返し試合できます！ \n☆こちらは初中級クラスの大会です。羽曳野レイティングポイント1750以下の方を想定しています。腕前に自信がある方は中上級の部へご参加下さい！ \nGANE TTCポイント認定大会です\n優勝者600p\nを基準に、以下順位に合わせてポイントを付与いたします
URL:https://wrm.osaka/event/%e7%ac%ac5%e5%9b%9egane-ttc%e5%8d%93%e7%90%83%e5%a4%a7%e4%bc%9a-%e3%80%8e%e3%83%81%e3%83%a3%e3%83%ac%e3%83%b3%e3%82%b8%e3%83%9e%e3%83%83%e3%83%81%e3%80%8f%e5%88%9d%e4%b8%ad%e7%b4%9a%e3%81%ae%e9%83%a8/
LOCATION:恵美須町 GANE-TTC\, 大阪府大阪市浪速区日本橋5-13-3\, 川北ビル５階
CATEGORIES:試合・大会
END:VEVENT
BEGIN:VEVENT
DTSTART;TZID=Asia/Tokyo:20230409T100000
DTEND;TZID=Asia/Tokyo:20230409T190000
DTSTAMP:20260426T132214
CREATED:20230316T112447Z
LAST-MODIFIED:20230316T112528Z
UID:10015735-1681034400-1681066800@wrm.osaka
SUMMARY:4/9高校生合同男女混合シングルスゲーム練習会
DESCRIPTION:第1回　高校生合同男女混合シングルスゲーム練習会 \n日時：2023年4月9日（日）　10:00開始　19:00終了予定\n場所：大国町 GANE-TTC　（大阪府大阪市浪速区元町3-10-4　晋陽ビル4F） \n内容：高校卓球を盛り上げるための交流会として、ゲーム練習会を行います \n★ゲーム練習会なので、勝ち負けにこだわらず沢山試合をしましょう。 \n試合形式：男女混合シングルス大会\n主催：大国町GANE-TTC、PLATFOMR-5　５番線卓球場\n参加費：800円\n定員：25人 \n電話でのご予約 080-1405-6067 \nお申込み方法：当イベントページより「予約チケット」を入手いただくと申込が完了いたします \n沢山の人と試合ができるように、2セット先取のリーグ戦を行います。
URL:https://wrm.osaka/event/%e9%ab%98%e6%a0%a1%e7%94%9f%e5%90%88%e5%90%8c%e7%94%b7%e5%a5%b3%e6%b7%b7%e5%90%88%e3%82%b7%e3%83%b3%e3%82%b0%e3%83%ab%e3%82%b9%e3%82%b2%e3%83%bc%e3%83%a0%e7%b7%b4%e7%bf%92%e4%bc%9a/
CATEGORIES:試合・大会
END:VEVENT
BEGIN:VEVENT
DTSTART;TZID=Asia/Tokyo:20230331T190000
DTEND;TZID=Asia/Tokyo:20230331T230000
DTSTAMP:20260426T132214
CREATED:20230213T115200Z
LAST-MODIFIED:20230307T111641Z
UID:10015704-1680289200-1680303600@wrm.osaka
SUMMARY:ナイトマッチ1000円
DESCRIPTION:【時間】 19：00～23：00 \n受付：19：00～21：00 仕事終わりの途中からでも参加できるように最終受付は、21：00まで受付にさせて頂きます。 \n試合開始来られた方から順番に19：00からスタートさせて頂きます。 \n【価格】 1000円 \n【内容】男女混合シングルス大会 \n参加者すべてとリーグ戦 \n3ゲームマッチ・2セット先取又は、 \n5ゲームマッチ・3セット先取で行わせて頂きます。 \n  \n【景品】\nなし！！！
URL:https://wrm.osaka/event/%e5%a4%9c%e3%81%ae%ef%bd%97%ef%bd%92%ef%bd%8d%e5%95%86%e5%93%81%e4%ba%89%e5%a5%aa%e6%88%a6%e3%82%ab%e3%83%83%e3%83%97-7/
CATEGORIES:試合・大会
END:VEVENT
BEGIN:VEVENT
DTSTART;TZID=Asia/Tokyo:20230330T190000
DTEND;TZID=Asia/Tokyo:20230330T230000
DTSTAMP:20260426T132214
CREATED:20230307T110630Z
LAST-MODIFIED:20230307T110630Z
UID:10015729-1680202800-1680217200@wrm.osaka
SUMMARY:1000円打ち放題 オープンサークル（19：00～23：00）
DESCRIPTION:【内容】 \nオープンサークルでは、19：00～21：00時まで、 \n打ち放題で楽しめます。 \n1人で気軽に参加できるように様々な工夫をしたり \nレベル問わずに沢山楽しめるように工夫しているので、是非皆さん遊びに来てください。 \nご予約不要！ \n1人で参加するのが不安な方は、こちらからお電話ください。 \n☎：080-1405-6067 \n日時：１９時～２３時\n利用料：１\,０００円 \n 
URL:https://wrm.osaka/event/1000%e5%86%86%e6%89%93%e3%81%a1%e6%94%be%e9%a1%8c-%e3%82%aa%e3%83%bc%e3%83%97%e3%83%b3%e3%82%b5%e3%83%bc%e3%82%af%e3%83%ab%ef%bc%8819%ef%bc%9a00%ef%bd%9e23%ef%bc%9a00%ef%bc%89-15/
CATEGORIES:練習会
END:VEVENT
BEGIN:VEVENT
DTSTART;TZID=Asia/Tokyo:20230329T190000
DTEND;TZID=Asia/Tokyo:20230329T230000
DTSTAMP:20260426T132214
CREATED:20230307T110625Z
LAST-MODIFIED:20230307T110625Z
UID:10015728-1680116400-1680130800@wrm.osaka
SUMMARY:1000円打ち放題 オープンサークル（19：00～23：00）
DESCRIPTION:【内容】 \nオープンサークルでは、19：00～21：00時まで、 \n打ち放題で楽しめます。 \n1人で気軽に参加できるように様々な工夫をしたり \nレベル問わずに沢山楽しめるように工夫しているので、是非皆さん遊びに来てください。 \nご予約不要！ \n1人で参加するのが不安な方は、こちらからお電話ください。 \n☎：080-1405-6067 \n日時：１９時～２３時\n利用料：１\,０００円 \n 
URL:https://wrm.osaka/event/1000%e5%86%86%e6%89%93%e3%81%a1%e6%94%be%e9%a1%8c-%e3%82%aa%e3%83%bc%e3%83%97%e3%83%b3%e3%82%b5%e3%83%bc%e3%82%af%e3%83%ab%ef%bc%8819%ef%bc%9a00%ef%bd%9e23%ef%bc%9a00%ef%bc%89-14/
CATEGORIES:練習会
END:VEVENT
BEGIN:VEVENT
DTSTART;TZID=Asia/Tokyo:20230328T190000
DTEND;TZID=Asia/Tokyo:20230328T230000
DTSTAMP:20260426T132214
CREATED:20230307T110617Z
LAST-MODIFIED:20230307T110617Z
UID:10015727-1680030000-1680044400@wrm.osaka
SUMMARY:1000円打ち放題 オープンサークル（19：00～23：00）
DESCRIPTION:【内容】 \nオープンサークルでは、19：00～21：00時まで、 \n打ち放題で楽しめます。 \n1人で気軽に参加できるように様々な工夫をしたり \nレベル問わずに沢山楽しめるように工夫しているので、是非皆さん遊びに来てください。 \nご予約不要！ \n1人で参加するのが不安な方は、こちらからお電話ください。 \n☎：080-1405-6067 \n日時：１９時～２３時\n利用料：１\,０００円 \n 
URL:https://wrm.osaka/event/1000%e5%86%86%e6%89%93%e3%81%a1%e6%94%be%e9%a1%8c-%e3%82%aa%e3%83%bc%e3%83%97%e3%83%b3%e3%82%b5%e3%83%bc%e3%82%af%e3%83%ab%ef%bc%8819%ef%bc%9a00%ef%bd%9e23%ef%bc%9a00%ef%bc%89-13/
CATEGORIES:練習会
END:VEVENT
BEGIN:VEVENT
DTSTART;TZID=Asia/Tokyo:20230327T190000
DTEND;TZID=Asia/Tokyo:20230327T230000
DTSTAMP:20260426T132214
CREATED:20230307T110547Z
LAST-MODIFIED:20230307T110547Z
UID:10015726-1679943600-1679958000@wrm.osaka
SUMMARY:1000円打ち放題 オープンサークル（19：00～23：00）
DESCRIPTION:【内容】 \nオープンサークルでは、19：00～21：00時まで、 \n打ち放題で楽しめます。 \n1人で気軽に参加できるように様々な工夫をしたり \nレベル問わずに沢山楽しめるように工夫しているので、是非皆さん遊びに来てください。 \nご予約不要！ \n1人で参加するのが不安な方は、こちらからお電話ください。 \n☎：080-1405-6067 \n日時：１９時～２３時\n利用料：１\,０００円 \n 
URL:https://wrm.osaka/event/1000%e5%86%86%e6%89%93%e3%81%a1%e6%94%be%e9%a1%8c-%e3%82%aa%e3%83%bc%e3%83%97%e3%83%b3%e3%82%b5%e3%83%bc%e3%82%af%e3%83%ab%ef%bc%8819%ef%bc%9a00%ef%bd%9e23%ef%bc%9a00%ef%bc%89-12/
CATEGORIES:練習会
END:VEVENT
BEGIN:VEVENT
DTSTART;TZID=Asia/Tokyo:20230325T100000
DTEND;TZID=Asia/Tokyo:20230325T180000
DTSTAMP:20260426T132214
CREATED:20230322T111811Z
LAST-MODIFIED:20230322T112740Z
UID:10015736-1679738400-1679767200@wrm.osaka
SUMMARY:1000円打ち放題（1人からでも参加できます）
DESCRIPTION:1日1000円で卓球し放題（1人からでも参加できます） \n※ご予約なしで参加して頂いて構いません！ \n不安な方は、こちらのQRコードを読み込んで、 \n1000円打ち放題練習会の参加ボタンを押しておいてください。 \nご不明な場合は、お電話でお伺いください。 \n注意：1000円打ち放題では、様々なお客様同士で仲良く打って頂くことをコンセプトとさせて頂いております。 \n友達だけで練習をしたい場合は、台貸し利用でご利用ください。 \nお問い合わはこちら \n080-1405-6067
URL:https://wrm.osaka/event/1000%e5%86%86%e6%89%93%e3%81%a1%e6%94%be%e9%a1%8c%ef%bc%881%e4%ba%ba%e3%81%8b%e3%82%89%e3%81%a7%e3%82%82%e5%8f%82%e5%8a%a0%e3%81%a7%e3%81%8d%e3%81%be%e3%81%99%ef%bc%89-11/
CATEGORIES:練習会
END:VEVENT
BEGIN:VEVENT
DTSTART;TZID=Asia/Tokyo:20230324T190000
DTEND;TZID=Asia/Tokyo:20230324T230000
DTSTAMP:20260426T132214
CREATED:20230213T115027Z
LAST-MODIFIED:20230307T111622Z
UID:10015703-1679684400-1679698800@wrm.osaka
SUMMARY:ナイトマッチ1000円
DESCRIPTION:【時間】 19：00～23：00 \n受付：19：00～21：00 仕事終わりの途中からでも参加できるように最終受付は、21：00まで受付にさせて頂きます。 \n試合開始来られた方から順番に19：00からスタートさせて頂きます。 \n【価格】 1000円 \n【内容】男女混合シングルス大会 \n参加者すべてとリーグ戦 \n3ゲームマッチ・2セット先取又は、 \n5ゲームマッチ・3セット先取で行わせて頂きます。 \n  \n【景品】\nなし！！！
URL:https://wrm.osaka/event/%e5%a4%9c%e3%81%ae%ef%bd%97%ef%bd%92%ef%bd%8d%e5%95%86%e5%93%81%e4%ba%89%e5%a5%aa%e6%88%a6%e3%82%ab%e3%83%83%e3%83%97-6/
CATEGORIES:試合・大会
END:VEVENT
BEGIN:VEVENT
DTSTART;TZID=Asia/Tokyo:20230323T190000
DTEND;TZID=Asia/Tokyo:20230323T230000
DTSTAMP:20260426T132214
CREATED:20230307T110537Z
LAST-MODIFIED:20230307T110537Z
UID:10015725-1679598000-1679612400@wrm.osaka
SUMMARY:1000円打ち放題 オープンサークル（19：00～23：00）
DESCRIPTION:【内容】 \nオープンサークルでは、19：00～21：00時まで、 \n打ち放題で楽しめます。 \n1人で気軽に参加できるように様々な工夫をしたり \nレベル問わずに沢山楽しめるように工夫しているので、是非皆さん遊びに来てください。 \nご予約不要！ \n1人で参加するのが不安な方は、こちらからお電話ください。 \n☎：080-1405-6067 \n日時：１９時～２３時\n利用料：１\,０００円 \n 
URL:https://wrm.osaka/event/1000%e5%86%86%e6%89%93%e3%81%a1%e6%94%be%e9%a1%8c-%e3%82%aa%e3%83%bc%e3%83%97%e3%83%b3%e3%82%b5%e3%83%bc%e3%82%af%e3%83%ab%ef%bc%8819%ef%bc%9a00%ef%bd%9e23%ef%bc%9a00%ef%bc%89-11/
CATEGORIES:練習会
END:VEVENT
BEGIN:VEVENT
DTSTART;TZID=Asia/Tokyo:20230322T190000
DTEND;TZID=Asia/Tokyo:20230322T230000
DTSTAMP:20260426T132214
CREATED:20230307T110530Z
LAST-MODIFIED:20230307T110530Z
UID:10015724-1679511600-1679526000@wrm.osaka
SUMMARY:1000円打ち放題 オープンサークル（19：00～23：00）
DESCRIPTION:【内容】 \nオープンサークルでは、19：00～21：00時まで、 \n打ち放題で楽しめます。 \n1人で気軽に参加できるように様々な工夫をしたり \nレベル問わずに沢山楽しめるように工夫しているので、是非皆さん遊びに来てください。 \nご予約不要！ \n1人で参加するのが不安な方は、こちらからお電話ください。 \n☎：080-1405-6067 \n日時：１９時～２３時\n利用料：１\,０００円 \n 
URL:https://wrm.osaka/event/1000%e5%86%86%e6%89%93%e3%81%a1%e6%94%be%e9%a1%8c-%e3%82%aa%e3%83%bc%e3%83%97%e3%83%b3%e3%82%b5%e3%83%bc%e3%82%af%e3%83%ab%ef%bc%8819%ef%bc%9a00%ef%bd%9e23%ef%bc%9a00%ef%bc%89-10/
CATEGORIES:練習会
END:VEVENT
BEGIN:VEVENT
DTSTART;TZID=Asia/Tokyo:20230321T190000
DTEND;TZID=Asia/Tokyo:20230321T230000
DTSTAMP:20260426T132214
CREATED:20230307T110524Z
LAST-MODIFIED:20230307T110524Z
UID:10015723-1679425200-1679439600@wrm.osaka
SUMMARY:1000円打ち放題 オープンサークル（19：00～23：00）
DESCRIPTION:【内容】 \nオープンサークルでは、19：00～21：00時まで、 \n打ち放題で楽しめます。 \n1人で気軽に参加できるように様々な工夫をしたり \nレベル問わずに沢山楽しめるように工夫しているので、是非皆さん遊びに来てください。 \nご予約不要！ \n1人で参加するのが不安な方は、こちらからお電話ください。 \n☎：080-1405-6067 \n日時：１９時～２３時\n利用料：１\,０００円 \n 
URL:https://wrm.osaka/event/1000%e5%86%86%e6%89%93%e3%81%a1%e6%94%be%e9%a1%8c-%e3%82%aa%e3%83%bc%e3%83%97%e3%83%b3%e3%82%b5%e3%83%bc%e3%82%af%e3%83%ab%ef%bc%8819%ef%bc%9a00%ef%bd%9e23%ef%bc%9a00%ef%bc%89-9/
CATEGORIES:練習会
END:VEVENT
BEGIN:VEVENT
DTSTART;TZID=Asia/Tokyo:20230321T100000
DTEND;TZID=Asia/Tokyo:20230321T190000
DTSTAMP:20260426T132214
CREATED:20230314T124841Z
LAST-MODIFIED:20230314T125137Z
UID:10015734-1679392800-1679425200@wrm.osaka
SUMMARY:1000円打ち放題（1人からでも参加できます）
DESCRIPTION:1日1000円で卓球し放題（1人からでも参加できます） \n※ご予約なしで参加して頂いて構いません！ \n不安な方は、こちらのQRコードを読み込んで、 \n1000円打ち放題練習会の参加ボタンを押しておいてください。 \nご不明な場合は、お電話でお伺いください。 \n注意：1000円打ち放題では、様々なお客様同士で仲良く打って頂くことをコンセプトとさせて頂いております。 \n友達だけで練習をしたい場合は、台貸し利用でご利用ください。 \nお問い合わはこちら \n080-1405-6067
URL:https://wrm.osaka/event/1000%e5%86%86%e6%89%93%e3%81%a1%e6%94%be%e9%a1%8c%ef%bc%881%e4%ba%ba%e3%81%8b%e3%82%89%e3%81%a7%e3%82%82%e5%8f%82%e5%8a%a0%e3%81%a7%e3%81%8d%e3%81%be%e3%81%99%ef%bc%89-10/
CATEGORIES:練習会
END:VEVENT
BEGIN:VEVENT
DTSTART;TZID=Asia/Tokyo:20230320T190000
DTEND;TZID=Asia/Tokyo:20230320T230000
DTSTAMP:20260426T132214
CREATED:20230307T110516Z
LAST-MODIFIED:20230307T110516Z
UID:10015722-1679338800-1679353200@wrm.osaka
SUMMARY:1000円打ち放題 オープンサークル（19：00～23：00）
DESCRIPTION:【内容】 \nオープンサークルでは、19：00～21：00時まで、 \n打ち放題で楽しめます。 \n1人で気軽に参加できるように様々な工夫をしたり \nレベル問わずに沢山楽しめるように工夫しているので、是非皆さん遊びに来てください。 \nご予約不要！ \n1人で参加するのが不安な方は、こちらからお電話ください。 \n☎：080-1405-6067 \n日時：１９時～２３時\n利用料：１\,０００円 \n 
URL:https://wrm.osaka/event/1000%e5%86%86%e6%89%93%e3%81%a1%e6%94%be%e9%a1%8c-%e3%82%aa%e3%83%bc%e3%83%97%e3%83%b3%e3%82%b5%e3%83%bc%e3%82%af%e3%83%ab%ef%bc%8819%ef%bc%9a00%ef%bd%9e23%ef%bc%9a00%ef%bc%89-8/
CATEGORIES:練習会
END:VEVENT
BEGIN:VEVENT
DTSTART;TZID=Asia/Tokyo:20230319T100000
DTEND;TZID=Asia/Tokyo:20230319T190000
DTSTAMP:20260426T132214
CREATED:20230314T124747Z
LAST-MODIFIED:20230314T124747Z
UID:10015733-1679220000-1679252400@wrm.osaka
SUMMARY:1000円打ち放題（1人からでも参加できます）
DESCRIPTION:1日1000円で卓球し放題（1人からでも参加できます） \n※ご予約なしで参加して頂いて構いません！ \n不安な方は、こちらのQRコードを読み込んで、 \n1000円打ち放題練習会の参加ボタンを押しておいてください。 \nご不明な場合は、お電話でお伺いください。 \n注意：1000円打ち放題では、様々なお客様同士で仲良く打って頂くことをコンセプトとさせて頂いております。 \n友達だけで練習をしたい場合は、台貸し利用でご利用ください。 \nお問い合わはこちら \n080-1405-6067
URL:https://wrm.osaka/event/1000%e5%86%86%e6%89%93%e3%81%a1%e6%94%be%e9%a1%8c%ef%bc%881%e4%ba%ba%e3%81%8b%e3%82%89%e3%81%a7%e3%82%82%e5%8f%82%e5%8a%a0%e3%81%a7%e3%81%8d%e3%81%be%e3%81%99%ef%bc%89-9/
CATEGORIES:練習会
END:VEVENT
BEGIN:VEVENT
DTSTART;TZID=Asia/Tokyo:20230318T100000
DTEND;TZID=Asia/Tokyo:20230318T190000
DTSTAMP:20260426T132214
CREATED:20230314T124623Z
LAST-MODIFIED:20230314T124623Z
UID:10015732-1679133600-1679166000@wrm.osaka
SUMMARY:1000円打ち放題（1人からでも参加できます）
DESCRIPTION:1日1000円で卓球し放題（1人からでも参加できます） \n※ご予約なしで参加して頂いて構いません！ \n不安な方は、こちらのQRコードを読み込んで、 \n1000円打ち放題練習会の参加ボタンを押しておいてください。 \nご不明な場合は、お電話でお伺いください。 \n注意：1000円打ち放題では、様々なお客様同士で仲良く打って頂くことをコンセプトとさせて頂いております。 \n友達だけで練習をしたい場合は、台貸し利用でご利用ください。 \nお問い合わはこちら \n080-1405-6067
URL:https://wrm.osaka/event/1000%e5%86%86%e6%89%93%e3%81%a1%e6%94%be%e9%a1%8c%ef%bc%881%e4%ba%ba%e3%81%8b%e3%82%89%e3%81%a7%e3%82%82%e5%8f%82%e5%8a%a0%e3%81%a7%e3%81%8d%e3%81%be%e3%81%99%ef%bc%89-8/
CATEGORIES:練習会
END:VEVENT
BEGIN:VEVENT
DTSTART;TZID=Asia/Tokyo:20230317T190000
DTEND;TZID=Asia/Tokyo:20230317T230000
DTSTAMP:20260426T132214
CREATED:20230213T114917Z
LAST-MODIFIED:20230307T111435Z
UID:10015702-1679079600-1679094000@wrm.osaka
SUMMARY:ナイトマッチ1000円
DESCRIPTION:  \n【時間】 19：00～23：00 \n受付：19：00～21：00 仕事終わりの途中からでも参加できるように最終受付は、21：00まで受付にさせて頂きます。 \n試合開始来られた方から順番に19：00からスタートさせて頂きます。 \n【価格】 1000円 \n【内容】男女混合シングルス大会 \n参加者すべてとリーグ戦 \n3ゲームマッチ・2セット先取又は、 \n5ゲームマッチ・3セット先取で行わせて頂きます。 \n  \n【景品】\nなし！！！
URL:https://wrm.osaka/event/%e5%a4%9c%e3%81%ae%ef%bd%97%ef%bd%92%ef%bd%8d%e5%95%86%e5%93%81%e4%ba%89%e5%a5%aa%e6%88%a6%e3%82%ab%e3%83%83%e3%83%97-5/
CATEGORIES:試合・大会
END:VEVENT
BEGIN:VEVENT
DTSTART;TZID=Asia/Tokyo:20230316T190000
DTEND;TZID=Asia/Tokyo:20230316T230000
DTSTAMP:20260426T132214
CREATED:20230307T110423Z
LAST-MODIFIED:20230307T110423Z
UID:10015721-1678993200-1679007600@wrm.osaka
SUMMARY:1000円打ち放題 オープンサークル（19：00～23：00）
DESCRIPTION:【内容】 \nオープンサークルでは、19：00～21：00時まで、 \n打ち放題で楽しめます。 \n1人で気軽に参加できるように様々な工夫をしたり \nレベル問わずに沢山楽しめるように工夫しているので、是非皆さん遊びに来てください。 \nご予約不要！ \n1人で参加するのが不安な方は、こちらからお電話ください。 \n☎：080-1405-6067 \n日時：１９時～２３時\n利用料：１\,０００円 \n 
URL:https://wrm.osaka/event/1000%e5%86%86%e6%89%93%e3%81%a1%e6%94%be%e9%a1%8c-%e3%82%aa%e3%83%bc%e3%83%97%e3%83%b3%e3%82%b5%e3%83%bc%e3%82%af%e3%83%ab%ef%bc%8819%ef%bc%9a00%ef%bd%9e23%ef%bc%9a00%ef%bc%89-7/
CATEGORIES:練習会
END:VEVENT
BEGIN:VEVENT
DTSTART;TZID=Asia/Tokyo:20230316T080000
DTEND;TZID=Asia/Tokyo:20230316T170000
DTSTAMP:20260426T132214
CREATED:20230301T132829Z
LAST-MODIFIED:20230301T132829Z
UID:10015710-1678953600-1678986000@wrm.osaka
SUMMARY:3/16平日大会 男女混合シングルス＆講習会付き
DESCRIPTION:第4回平日大会 男女混合シングルス＆講習会付き（GANE TTCポイント認定大会） \n日時：2023年3月16日（木）　10:00開始　17:00終了予定\n場所：大国町 GANE-TTC　（大阪府大阪市浪速区元町3-10-4　晋陽ビル4F） \n内容：ロングサーブ講習会＋男女混合シングルス大会 \n★試合に負けてしまった後も、ゲーム練習や練習で楽しんで頂いて構いません。 \n試合形式：男女混合シングルス大会\n主催：大国町GANE-TTC、PLATFOMR-5　５番線卓球場\n参加費：1\,800円\n定員：25人 \n電話でのご予約 080-1405-6067 \nお申込み方法：当イベントページより「予約チケット」を入手いただくと申込が完了いたします \n予選リーグ：５名の総当り、３ゲームマッチ又は、５ゲームマッチ（人数が少ない場合は、５ゲームマッチでやらせて頂きます）\n決勝トーナメント：予選上位選手をシード枠と設定、全参加者で５ゲームマッチ（３ゲーム先取）のトーナメント \n☆決勝トーナメントで敗退した場合でも、敗者同士でランダムに組み合わせを決めて試合を行います。負けても大会終了時刻まで繰り返し試合できます！ \nGANE TTCポイント認定大会です\n優勝者600p\nを基準に、以下順位に合わせてポイントを付与いたします
URL:https://wrm.osaka/event/3-16%e5%b9%b3%e6%97%a5%e5%a4%a7%e4%bc%9a-%e7%94%b7%e5%a5%b3%e6%b7%b7%e5%90%88%e3%82%b7%e3%83%b3%e3%82%b0%e3%83%ab%e3%82%b9%ef%bc%86%e8%ac%9b%e7%bf%92%e4%bc%9a%e4%bb%98%e3%81%8d/
CATEGORIES:試合・大会
END:VEVENT
END:VCALENDAR