BEGIN:VCALENDAR
VERSION:2.0
PRODID:-//GANETTC - ECPv6.2.8.2//NONSGML v1.0//EN
CALSCALE:GREGORIAN
METHOD:PUBLISH
X-WR-CALNAME:GANETTC
X-ORIGINAL-URL:https://wrm.osaka
X-WR-CALDESC:GANETTC のイベント
REFRESH-INTERVAL;VALUE=DURATION:PT1H
X-Robots-Tag:noindex
X-PUBLISHED-TTL:PT1H
BEGIN:VTIMEZONE
TZID:Asia/Tokyo
BEGIN:STANDARD
TZOFFSETFROM:+0900
TZOFFSETTO:+0900
TZNAME:JST
DTSTART:20230101T000000
END:STANDARD
END:VTIMEZONE
BEGIN:VEVENT
DTSTART;TZID=Asia/Tokyo:20240108T100000
DTEND;TZID=Asia/Tokyo:20240108T120000
DTSTAMP:20260425T103914
CREATED:20231217T081209Z
LAST-MODIFIED:20231217T083005Z
UID:10015819-1704708000-1704715200@wrm.osaka
SUMMARY:1/8ぐっちぃさんの卓球教室
DESCRIPTION:ぐっちぃさんの卓球教室 \n日時：2024年1月8日　10:00開始　12:00終了予定\n場所：場所：恵美須町GANE-TTC　（大阪府 大阪市 浪速区 日本橋５丁目１３−３）5F\n主催：恵美須町GANE-TTC、PLATFOMR-5　５番線卓球場 \n教室内容：ぐっちぃさんの教室を行います。 \nお客様のお悩みを解決できる限り解決！ \n12時～19時の打ち放題にも参加可能です。 \n※混雑時は、打ち放題が3時間での退出になりますので \n13時～14時頃に退出して頂く場合がございます。 \n参加費：3\,000円\n定員：15人 \n電話でのご予約 080-1405-6067 \nお申込み方法：当イベントページより「予約チケット」を入手いただくと申込が完了いたします \n予選リーグ：３ゲームマッチ2セット先取 \n決勝トーナメント：上位トーナメントと下位トーナメントで分けて、試合を行います。 \nボール：VICTAS 3スター
URL:https://wrm.osaka/event/1-7%e3%81%90%e3%81%a3%e3%81%a1%e3%81%83%e3%81%95%e3%82%93%e3%81%ae%e5%8d%93%e7%90%83%e6%95%99%e5%ae%a4/
CATEGORIES:グループレッスン
END:VEVENT
BEGIN:VEVENT
DTSTART;TZID=Asia/Tokyo:20240107T100000
DTEND;TZID=Asia/Tokyo:20240107T120000
DTSTAMP:20260425T103914
CREATED:20231217T081806Z
LAST-MODIFIED:20231217T083027Z
UID:10015821-1704621600-1704628800@wrm.osaka
SUMMARY:1/7ぐっちぃさんの卓球教室
DESCRIPTION:ぐっちぃさんの卓球教室 \n日時：2024年1月7日　10:00開始　12:00終了予定\n場所：場所：恵美須町GANE-TTC　（大阪府 大阪市 浪速区 日本橋５丁目１３−３）5F\n主催：恵美須町GANE-TTC、PLATFOMR-5　５番線卓球場 \n教室内容：ぐっちぃさんの教室を行います。 \nお客様のお悩みを解決できる限り解決！ \n12時～19時の打ち放題にも参加可能です。 \n※混雑時は、打ち放題が3時間での退出になりますので \n13時～14時頃に退出して頂く場合がございます。 \n参加費：3\,000円\n定員：15人 \n電話でのご予約 080-1405-6067 \nお申込み方法：当イベントページより「予約チケット」を入手いただくと申込が完了いたします \n予選リーグ：３ゲームマッチ2セット先取 \n決勝トーナメント：上位トーナメントと下位トーナメントで分けて、試合を行います。 \nボール：VICTAS 3スター
URL:https://wrm.osaka/event/1-7%e3%81%90%e3%81%a3%e3%81%a1%e3%81%83%e3%81%95%e3%82%93%e3%81%ae%e5%8d%93%e7%90%83%e6%95%99%e5%ae%a4-2/
CATEGORIES:グループレッスン
END:VEVENT
BEGIN:VEVENT
DTSTART;TZID=Asia/Tokyo:20230430T110000
DTEND;TZID=Asia/Tokyo:20230430T123000
DTSTAMP:20260425T103914
CREATED:20230422T073024Z
LAST-MODIFIED:20230422T073631Z
UID:10015760-1682852400-1682857800@wrm.osaka
SUMMARY:GW特別イベント 朝田まい 卓球教室 4/30 11時～12時半
DESCRIPTION:朝田まい卓球教室をGW特別イベントとして行います。 \n前回大人気だった朝田まいコーチの卓球教室を行います。 \n朝田まいさんの卓球教室＋GANETTCで人気な1000円打ち放題付きで　なんと3000円！！超お得なレッスンになっています。 \n限定7名なのでご予約はお早めに！！ \n  \n個人レッスンご予約はこちらから↓ \nhttps://docs.google.com/forms/d/e/1FAIpQLSck_BZENV_MCk68s9662yTpkl4uDta2e5mysF3d4t3iejCfLA/viewform
URL:https://wrm.osaka/event/gw%e7%89%b9%e5%88%a5%e3%82%a4%e3%83%99%e3%83%b3%e3%83%88-%e6%9c%9d%e7%94%b0%e3%81%be%e3%81%84-%e5%8d%93%e7%90%83%e6%95%99%e5%ae%a4-4-30-11%e6%99%82%ef%bd%9e12%e6%99%82%e5%8d%8a/
CATEGORIES:グループレッスン
END:VEVENT
BEGIN:VEVENT
DTSTART;TZID=Asia/Tokyo:20230228T190000
DTEND;TZID=Asia/Tokyo:20230228T230000
DTSTAMP:20260425T103914
CREATED:20230213T121514Z
LAST-MODIFIED:20230213T121514Z
UID:10015705-1677610800-1677625200@wrm.osaka
SUMMARY:夜の卓球教室（19：00～23：00の部）
DESCRIPTION:火曜日限定！夜の卓球教室では、コーチのレッスンや\nアドバイスを受けながら、参加者同士で卓球を沢山\n楽しめる教室になっています。 \nゲーム練習会と教室の両方が楽しめるので、皆様是非遊びに来てください。 \nご予約は電話又は、メールでお願いします。 \n☎080-1405-6067 \ninfo@wrm.osaka \n【利用時間】19時～23時 \n※20時～22時の時までは、コーチがついて練習をサポートします。 \n19時～20時・22時～23時までは、参加者同士で沢山利用してください。 \nお問い合わせはこちら \n☎080-1405-6067 \ninfo@wrm.osaka \n 
URL:https://wrm.osaka/event/%e5%a4%9c%e3%81%ae%e5%8d%93%e7%90%83%e6%95%99%e5%ae%a4%ef%bc%8819%ef%bc%9a00%ef%bd%9e23%ef%bc%9a00%e3%81%ae%e9%83%a8%ef%bc%89/
CATEGORIES:グループレッスン,練習会
END:VEVENT
BEGIN:VEVENT
DTSTART;TZID=Asia/Tokyo:20230228T130000
DTEND;TZID=Asia/Tokyo:20230228T160000
DTSTAMP:20260425T103914
CREATED:20230202T013204Z
LAST-MODIFIED:20230202T013204Z
UID:10015651-1677589200-1677600000@wrm.osaka
SUMMARY:午後の卓球教室（13：00～16：00の部）
DESCRIPTION:平日限定！卓球教室では、コーチのレッスンや\nアドバイスを受けながら、参加者同士で卓球を沢山\n楽しめる教室になっています。 \nご予約不要！ \n【利用時間】13時～16時 \n※13時～15時の時までは、コーチがついて練習をサポートします。 \n15時～16時までは、参加者同士で沢山利用してください。 \nお問い合わせはこちら \n☎080-1405-6067 \ninfo@wrm.osaka \n 
URL:https://wrm.osaka/event/%e5%8d%88%e5%be%8c%e3%81%ae%e5%8d%93%e7%90%83%e6%95%99%e5%ae%a4%ef%bc%8813%ef%bc%9a00%ef%bd%9e16%ef%bc%9a00%e3%81%ae%e9%83%a8%ef%bc%89-36/
CATEGORIES:グループレッスン
END:VEVENT
BEGIN:VEVENT
DTSTART;TZID=Asia/Tokyo:20230228T100000
DTEND;TZID=Asia/Tokyo:20230228T130000
DTSTAMP:20260425T103914
CREATED:20230202T012531Z
LAST-MODIFIED:20230202T012531Z
UID:10015632-1677578400-1677589200@wrm.osaka
SUMMARY:午前の卓球教室 （10：00～13：00の部）
DESCRIPTION:平日限定！卓球教室では、コーチのレッスンや\nアドバイスを受けながら、参加者同士で卓球を沢山\n楽しめる教室になっています。 \nご予約不要！ \n【利用時間】10時～13時 \n※10時～12時までは、コーチがついて練習をサポートします。 \n12時～13時までは、参加者同士で沢山利用してください。 \nお問い合わせはこちら \n☎080-1405-6067 \ninfo@wrm.osaka \n  \n 
URL:https://wrm.osaka/event/%e5%8d%88%e5%89%8d%e3%81%ae%e5%8d%93%e7%90%83%e6%95%99%e5%ae%a4-%ef%bc%8810%ef%bc%9a00%ef%bd%9e13%ef%bc%9a00%e3%81%ae%e9%83%a8%ef%bc%89-35/
LOCATION:恵美須町 GANE-TTC\, 大阪府大阪市浪速区日本橋5-13-3\, 川北ビル５階
CATEGORIES:グループレッスン
END:VEVENT
BEGIN:VEVENT
DTSTART;TZID=Asia/Tokyo:20230226T133000
DTEND;TZID=Asia/Tokyo:20230226T153000
DTSTAMP:20260425T103914
CREATED:20230211T092017Z
LAST-MODIFIED:20230211T092751Z
UID:10015699-1677418200-1677425400@wrm.osaka
SUMMARY:2/26 粒高試打会 13：30～15：30
DESCRIPTION:【場所】 GANETTC \n【時間】2/26（日）13：30～15：30 \n【内容】粒高試打会 \n粒高ラバーを利用されている方で海外用具に興味がある方必見！ \n沢山粒高があり過ぎて何がいいかわからない・・・ \n自分に合った粒高を探したいという方は是非ご参加ください。 \n【定員】6名 \n【価格】￥3000
URL:https://wrm.osaka/event/2-26-%e7%b2%92%e9%ab%98%e8%a9%a6%e6%89%93%e4%bc%9a-13%ef%bc%9a30%ef%bd%9e15%ef%bc%9a30/
CATEGORIES:その他イベント,グループレッスン
END:VEVENT
BEGIN:VEVENT
DTSTART;TZID=Asia/Tokyo:20230224T130000
DTEND;TZID=Asia/Tokyo:20230224T160000
DTSTAMP:20260425T103914
CREATED:20230202T013129Z
LAST-MODIFIED:20230202T013129Z
UID:10015649-1677243600-1677254400@wrm.osaka
SUMMARY:午後の卓球教室（13：00～16：00の部）
DESCRIPTION:平日限定！卓球教室では、コーチのレッスンや\nアドバイスを受けながら、参加者同士で卓球を沢山\n楽しめる教室になっています。 \nご予約不要！ \n【利用時間】13時～16時 \n※13時～15時の時までは、コーチがついて練習をサポートします。 \n15時～16時までは、参加者同士で沢山利用してください。 \nお問い合わせはこちら \n☎080-1405-6067 \ninfo@wrm.osaka \n 
URL:https://wrm.osaka/event/%e5%8d%88%e5%be%8c%e3%81%ae%e5%8d%93%e7%90%83%e6%95%99%e5%ae%a4%ef%bc%8813%ef%bc%9a00%ef%bd%9e16%ef%bc%9a00%e3%81%ae%e9%83%a8%ef%bc%89-34/
CATEGORIES:グループレッスン
END:VEVENT
BEGIN:VEVENT
DTSTART;TZID=Asia/Tokyo:20230224T100000
DTEND;TZID=Asia/Tokyo:20230224T130000
DTSTAMP:20260425T103914
CREATED:20230202T012455Z
LAST-MODIFIED:20230202T012455Z
UID:10015630-1677232800-1677243600@wrm.osaka
SUMMARY:午前の卓球教室 （10：00～13：00の部）
DESCRIPTION:平日限定！卓球教室では、コーチのレッスンや\nアドバイスを受けながら、参加者同士で卓球を沢山\n楽しめる教室になっています。 \nご予約不要！ \n【利用時間】10時～13時 \n※10時～12時までは、コーチがついて練習をサポートします。 \n12時～13時までは、参加者同士で沢山利用してください。 \nお問い合わせはこちら \n☎080-1405-6067 \ninfo@wrm.osaka \n  \n 
URL:https://wrm.osaka/event/%e5%8d%88%e5%89%8d%e3%81%ae%e5%8d%93%e7%90%83%e6%95%99%e5%ae%a4-%ef%bc%8810%ef%bc%9a00%ef%bd%9e13%ef%bc%9a00%e3%81%ae%e9%83%a8%ef%bc%89-33/
LOCATION:恵美須町 GANE-TTC\, 大阪府大阪市浪速区日本橋5-13-3\, 川北ビル５階
CATEGORIES:グループレッスン
END:VEVENT
BEGIN:VEVENT
DTSTART;TZID=Asia/Tokyo:20230223T130000
DTEND;TZID=Asia/Tokyo:20230223T160000
DTSTAMP:20260425T103914
CREATED:20230202T013112Z
LAST-MODIFIED:20230202T013112Z
UID:10015648-1677157200-1677168000@wrm.osaka
SUMMARY:午後の卓球教室（13：00～16：00の部）
DESCRIPTION:平日限定！卓球教室では、コーチのレッスンや\nアドバイスを受けながら、参加者同士で卓球を沢山\n楽しめる教室になっています。 \nご予約不要！ \n【利用時間】13時～16時 \n※13時～15時の時までは、コーチがついて練習をサポートします。 \n15時～16時までは、参加者同士で沢山利用してください。 \nお問い合わせはこちら \n☎080-1405-6067 \ninfo@wrm.osaka \n 
URL:https://wrm.osaka/event/%e5%8d%88%e5%be%8c%e3%81%ae%e5%8d%93%e7%90%83%e6%95%99%e5%ae%a4%ef%bc%8813%ef%bc%9a00%ef%bd%9e16%ef%bc%9a00%e3%81%ae%e9%83%a8%ef%bc%89-33/
CATEGORIES:グループレッスン
END:VEVENT
BEGIN:VEVENT
DTSTART;TZID=Asia/Tokyo:20230223T100000
DTEND;TZID=Asia/Tokyo:20230223T130000
DTSTAMP:20260425T103914
CREATED:20230202T012447Z
LAST-MODIFIED:20230202T012447Z
UID:10015629-1677146400-1677157200@wrm.osaka
SUMMARY:午前の卓球教室 （10：00～13：00の部）
DESCRIPTION:平日限定！卓球教室では、コーチのレッスンや\nアドバイスを受けながら、参加者同士で卓球を沢山\n楽しめる教室になっています。 \nご予約不要！ \n【利用時間】10時～13時 \n※10時～12時までは、コーチがついて練習をサポートします。 \n12時～13時までは、参加者同士で沢山利用してください。 \nお問い合わせはこちら \n☎080-1405-6067 \ninfo@wrm.osaka \n  \n 
URL:https://wrm.osaka/event/%e5%8d%88%e5%89%8d%e3%81%ae%e5%8d%93%e7%90%83%e6%95%99%e5%ae%a4-%ef%bc%8810%ef%bc%9a00%ef%bd%9e13%ef%bc%9a00%e3%81%ae%e9%83%a8%ef%bc%89-32/
LOCATION:恵美須町 GANE-TTC\, 大阪府大阪市浪速区日本橋5-13-3\, 川北ビル５階
CATEGORIES:グループレッスン
END:VEVENT
BEGIN:VEVENT
DTSTART;TZID=Asia/Tokyo:20230222T130000
DTEND;TZID=Asia/Tokyo:20230222T160000
DTSTAMP:20260425T103914
CREATED:20230202T013103Z
LAST-MODIFIED:20230202T013103Z
UID:10015647-1677070800-1677081600@wrm.osaka
SUMMARY:午後の卓球教室（13：00～16：00の部）
DESCRIPTION:平日限定！卓球教室では、コーチのレッスンや\nアドバイスを受けながら、参加者同士で卓球を沢山\n楽しめる教室になっています。 \nご予約不要！ \n【利用時間】13時～16時 \n※13時～15時の時までは、コーチがついて練習をサポートします。 \n15時～16時までは、参加者同士で沢山利用してください。 \nお問い合わせはこちら \n☎080-1405-6067 \ninfo@wrm.osaka \n 
URL:https://wrm.osaka/event/%e5%8d%88%e5%be%8c%e3%81%ae%e5%8d%93%e7%90%83%e6%95%99%e5%ae%a4%ef%bc%8813%ef%bc%9a00%ef%bd%9e16%ef%bc%9a00%e3%81%ae%e9%83%a8%ef%bc%89-32/
CATEGORIES:グループレッスン
END:VEVENT
BEGIN:VEVENT
DTSTART;TZID=Asia/Tokyo:20230222T100000
DTEND;TZID=Asia/Tokyo:20230222T130000
DTSTAMP:20260425T103914
CREATED:20230202T012438Z
LAST-MODIFIED:20230202T012438Z
UID:10015628-1677060000-1677070800@wrm.osaka
SUMMARY:午前の卓球教室 （10：00～13：00の部）
DESCRIPTION:平日限定！卓球教室では、コーチのレッスンや\nアドバイスを受けながら、参加者同士で卓球を沢山\n楽しめる教室になっています。 \nご予約不要！ \n【利用時間】10時～13時 \n※10時～12時までは、コーチがついて練習をサポートします。 \n12時～13時までは、参加者同士で沢山利用してください。 \nお問い合わせはこちら \n☎080-1405-6067 \ninfo@wrm.osaka \n  \n 
URL:https://wrm.osaka/event/%e5%8d%88%e5%89%8d%e3%81%ae%e5%8d%93%e7%90%83%e6%95%99%e5%ae%a4-%ef%bc%8810%ef%bc%9a00%ef%bd%9e13%ef%bc%9a00%e3%81%ae%e9%83%a8%ef%bc%89-31/
LOCATION:恵美須町 GANE-TTC\, 大阪府大阪市浪速区日本橋5-13-3\, 川北ビル５階
CATEGORIES:グループレッスン
END:VEVENT
BEGIN:VEVENT
DTSTART;TZID=Asia/Tokyo:20230221T130000
DTEND;TZID=Asia/Tokyo:20230221T160000
DTSTAMP:20260425T103914
CREATED:20230202T013055Z
LAST-MODIFIED:20230202T013055Z
UID:10015646-1676984400-1676995200@wrm.osaka
SUMMARY:午後の卓球教室（13：00～16：00の部）
DESCRIPTION:平日限定！卓球教室では、コーチのレッスンや\nアドバイスを受けながら、参加者同士で卓球を沢山\n楽しめる教室になっています。 \nご予約不要！ \n【利用時間】13時～16時 \n※13時～15時の時までは、コーチがついて練習をサポートします。 \n15時～16時までは、参加者同士で沢山利用してください。 \nお問い合わせはこちら \n☎080-1405-6067 \ninfo@wrm.osaka \n 
URL:https://wrm.osaka/event/%e5%8d%88%e5%be%8c%e3%81%ae%e5%8d%93%e7%90%83%e6%95%99%e5%ae%a4%ef%bc%8813%ef%bc%9a00%ef%bd%9e16%ef%bc%9a00%e3%81%ae%e9%83%a8%ef%bc%89-31/
CATEGORIES:グループレッスン
END:VEVENT
BEGIN:VEVENT
DTSTART;TZID=Asia/Tokyo:20230221T100000
DTEND;TZID=Asia/Tokyo:20230221T130000
DTSTAMP:20260425T103914
CREATED:20230202T012431Z
LAST-MODIFIED:20230202T012431Z
UID:10015627-1676973600-1676984400@wrm.osaka
SUMMARY:午前の卓球教室 （10：00～13：00の部）
DESCRIPTION:平日限定！卓球教室では、コーチのレッスンや\nアドバイスを受けながら、参加者同士で卓球を沢山\n楽しめる教室になっています。 \nご予約不要！ \n【利用時間】10時～13時 \n※10時～12時までは、コーチがついて練習をサポートします。 \n12時～13時までは、参加者同士で沢山利用してください。 \nお問い合わせはこちら \n☎080-1405-6067 \ninfo@wrm.osaka \n  \n 
URL:https://wrm.osaka/event/%e5%8d%88%e5%89%8d%e3%81%ae%e5%8d%93%e7%90%83%e6%95%99%e5%ae%a4-%ef%bc%8810%ef%bc%9a00%ef%bd%9e13%ef%bc%9a00%e3%81%ae%e9%83%a8%ef%bc%89-30/
LOCATION:恵美須町 GANE-TTC\, 大阪府大阪市浪速区日本橋5-13-3\, 川北ビル５階
CATEGORIES:グループレッスン
END:VEVENT
BEGIN:VEVENT
DTSTART;TZID=Asia/Tokyo:20230220T130000
DTEND;TZID=Asia/Tokyo:20230220T160000
DTSTAMP:20260425T103914
CREATED:20230202T013046Z
LAST-MODIFIED:20230202T013046Z
UID:10015645-1676898000-1676908800@wrm.osaka
SUMMARY:午後の卓球教室（13：00～16：00の部）
DESCRIPTION:平日限定！卓球教室では、コーチのレッスンや\nアドバイスを受けながら、参加者同士で卓球を沢山\n楽しめる教室になっています。 \nご予約不要！ \n【利用時間】13時～16時 \n※13時～15時の時までは、コーチがついて練習をサポートします。 \n15時～16時までは、参加者同士で沢山利用してください。 \nお問い合わせはこちら \n☎080-1405-6067 \ninfo@wrm.osaka \n 
URL:https://wrm.osaka/event/%e5%8d%88%e5%be%8c%e3%81%ae%e5%8d%93%e7%90%83%e6%95%99%e5%ae%a4%ef%bc%8813%ef%bc%9a00%ef%bd%9e16%ef%bc%9a00%e3%81%ae%e9%83%a8%ef%bc%89-30/
CATEGORIES:グループレッスン
END:VEVENT
BEGIN:VEVENT
DTSTART;TZID=Asia/Tokyo:20230220T100000
DTEND;TZID=Asia/Tokyo:20230220T130000
DTSTAMP:20260425T103914
CREATED:20230202T012426Z
LAST-MODIFIED:20230202T012426Z
UID:10015626-1676887200-1676898000@wrm.osaka
SUMMARY:午前の卓球教室 （10：00～13：00の部）
DESCRIPTION:平日限定！卓球教室では、コーチのレッスンや\nアドバイスを受けながら、参加者同士で卓球を沢山\n楽しめる教室になっています。 \nご予約不要！ \n【利用時間】10時～13時 \n※10時～12時までは、コーチがついて練習をサポートします。 \n12時～13時までは、参加者同士で沢山利用してください。 \nお問い合わせはこちら \n☎080-1405-6067 \ninfo@wrm.osaka \n  \n 
URL:https://wrm.osaka/event/%e5%8d%88%e5%89%8d%e3%81%ae%e5%8d%93%e7%90%83%e6%95%99%e5%ae%a4-%ef%bc%8810%ef%bc%9a00%ef%bd%9e13%ef%bc%9a00%e3%81%ae%e9%83%a8%ef%bc%89-29/
LOCATION:恵美須町 GANE-TTC\, 大阪府大阪市浪速区日本橋5-13-3\, 川北ビル５階
CATEGORIES:グループレッスン
END:VEVENT
BEGIN:VEVENT
DTSTART;TZID=Asia/Tokyo:20230215T130000
DTEND;TZID=Asia/Tokyo:20230215T160000
DTSTAMP:20260425T103914
CREATED:20230202T012939Z
LAST-MODIFIED:20230202T012939Z
UID:10015642-1676466000-1676476800@wrm.osaka
SUMMARY:午後の卓球教室（13：00～16：00の部）
DESCRIPTION:平日限定！卓球教室では、コーチのレッスンや\nアドバイスを受けながら、参加者同士で卓球を沢山\n楽しめる教室になっています。 \nご予約不要！ \n【利用時間】13時～16時 \n※13時～15時の時までは、コーチがついて練習をサポートします。 \n15時～16時までは、参加者同士で沢山利用してください。 \nお問い合わせはこちら \n☎080-1405-6067 \ninfo@wrm.osaka \n 
URL:https://wrm.osaka/event/%e5%8d%88%e5%be%8c%e3%81%ae%e5%8d%93%e7%90%83%e6%95%99%e5%ae%a4%ef%bc%8813%ef%bc%9a00%ef%bd%9e16%ef%bc%9a00%e3%81%ae%e9%83%a8%ef%bc%89-27/
CATEGORIES:グループレッスン
END:VEVENT
BEGIN:VEVENT
DTSTART;TZID=Asia/Tokyo:20230215T100000
DTEND;TZID=Asia/Tokyo:20230215T130000
DTSTAMP:20260425T103914
CREATED:20230202T012321Z
LAST-MODIFIED:20230202T012321Z
UID:10015623-1676455200-1676466000@wrm.osaka
SUMMARY:午前の卓球教室 （10：00～13：00の部）
DESCRIPTION:平日限定！卓球教室では、コーチのレッスンや\nアドバイスを受けながら、参加者同士で卓球を沢山\n楽しめる教室になっています。 \nご予約不要！ \n【利用時間】10時～13時 \n※10時～12時までは、コーチがついて練習をサポートします。 \n12時～13時までは、参加者同士で沢山利用してください。 \nお問い合わせはこちら \n☎080-1405-6067 \ninfo@wrm.osaka \n  \n 
URL:https://wrm.osaka/event/%e5%8d%88%e5%89%8d%e3%81%ae%e5%8d%93%e7%90%83%e6%95%99%e5%ae%a4-%ef%bc%8810%ef%bc%9a00%ef%bd%9e13%ef%bc%9a00%e3%81%ae%e9%83%a8%ef%bc%89-26/
LOCATION:恵美須町 GANE-TTC\, 大阪府大阪市浪速区日本橋5-13-3\, 川北ビル５階
CATEGORIES:グループレッスン
END:VEVENT
BEGIN:VEVENT
DTSTART;TZID=Asia/Tokyo:20230214T130000
DTEND;TZID=Asia/Tokyo:20230214T160000
DTSTAMP:20260425T103914
CREATED:20230202T012933Z
LAST-MODIFIED:20230202T012933Z
UID:10015641-1676379600-1676390400@wrm.osaka
SUMMARY:午後の卓球教室（13：00～16：00の部）
DESCRIPTION:平日限定！卓球教室では、コーチのレッスンや\nアドバイスを受けながら、参加者同士で卓球を沢山\n楽しめる教室になっています。 \nご予約不要！ \n【利用時間】13時～16時 \n※13時～15時の時までは、コーチがついて練習をサポートします。 \n15時～16時までは、参加者同士で沢山利用してください。 \nお問い合わせはこちら \n☎080-1405-6067 \ninfo@wrm.osaka \n 
URL:https://wrm.osaka/event/%e5%8d%88%e5%be%8c%e3%81%ae%e5%8d%93%e7%90%83%e6%95%99%e5%ae%a4%ef%bc%8813%ef%bc%9a00%ef%bd%9e16%ef%bc%9a00%e3%81%ae%e9%83%a8%ef%bc%89-26/
CATEGORIES:グループレッスン
END:VEVENT
BEGIN:VEVENT
DTSTART;TZID=Asia/Tokyo:20230214T100000
DTEND;TZID=Asia/Tokyo:20230214T130000
DTSTAMP:20260425T103914
CREATED:20230202T012313Z
LAST-MODIFIED:20230202T012313Z
UID:10015622-1676368800-1676379600@wrm.osaka
SUMMARY:午前の卓球教室 （10：00～13：00の部）
DESCRIPTION:平日限定！卓球教室では、コーチのレッスンや\nアドバイスを受けながら、参加者同士で卓球を沢山\n楽しめる教室になっています。 \nご予約不要！ \n【利用時間】10時～13時 \n※10時～12時までは、コーチがついて練習をサポートします。 \n12時～13時までは、参加者同士で沢山利用してください。 \nお問い合わせはこちら \n☎080-1405-6067 \ninfo@wrm.osaka \n  \n 
URL:https://wrm.osaka/event/%e5%8d%88%e5%89%8d%e3%81%ae%e5%8d%93%e7%90%83%e6%95%99%e5%ae%a4-%ef%bc%8810%ef%bc%9a00%ef%bd%9e13%ef%bc%9a00%e3%81%ae%e9%83%a8%ef%bc%89-25/
LOCATION:恵美須町 GANE-TTC\, 大阪府大阪市浪速区日本橋5-13-3\, 川北ビル５階
CATEGORIES:グループレッスン
END:VEVENT
BEGIN:VEVENT
DTSTART;TZID=Asia/Tokyo:20230213T130000
DTEND;TZID=Asia/Tokyo:20230213T160000
DTSTAMP:20260425T103914
CREATED:20230202T012925Z
LAST-MODIFIED:20230202T012925Z
UID:10015640-1676293200-1676304000@wrm.osaka
SUMMARY:午後の卓球教室（13：00～16：00の部）
DESCRIPTION:平日限定！卓球教室では、コーチのレッスンや\nアドバイスを受けながら、参加者同士で卓球を沢山\n楽しめる教室になっています。 \nご予約不要！ \n【利用時間】13時～16時 \n※13時～15時の時までは、コーチがついて練習をサポートします。 \n15時～16時までは、参加者同士で沢山利用してください。 \nお問い合わせはこちら \n☎080-1405-6067 \ninfo@wrm.osaka \n 
URL:https://wrm.osaka/event/%e5%8d%88%e5%be%8c%e3%81%ae%e5%8d%93%e7%90%83%e6%95%99%e5%ae%a4%ef%bc%8813%ef%bc%9a00%ef%bd%9e16%ef%bc%9a00%e3%81%ae%e9%83%a8%ef%bc%89-25/
CATEGORIES:グループレッスン
END:VEVENT
BEGIN:VEVENT
DTSTART;TZID=Asia/Tokyo:20230213T100000
DTEND;TZID=Asia/Tokyo:20230213T130000
DTSTAMP:20260425T103914
CREATED:20230202T012304Z
LAST-MODIFIED:20230202T012304Z
UID:10015621-1676282400-1676293200@wrm.osaka
SUMMARY:午前の卓球教室 （10：00～13：00の部）
DESCRIPTION:平日限定！卓球教室では、コーチのレッスンや\nアドバイスを受けながら、参加者同士で卓球を沢山\n楽しめる教室になっています。 \nご予約不要！ \n【利用時間】10時～13時 \n※10時～12時までは、コーチがついて練習をサポートします。 \n12時～13時までは、参加者同士で沢山利用してください。 \nお問い合わせはこちら \n☎080-1405-6067 \ninfo@wrm.osaka \n  \n 
URL:https://wrm.osaka/event/%e5%8d%88%e5%89%8d%e3%81%ae%e5%8d%93%e7%90%83%e6%95%99%e5%ae%a4-%ef%bc%8810%ef%bc%9a00%ef%bd%9e13%ef%bc%9a00%e3%81%ae%e9%83%a8%ef%bc%89-24/
LOCATION:恵美須町 GANE-TTC\, 大阪府大阪市浪速区日本橋5-13-3\, 川北ビル５階
CATEGORIES:グループレッスン
END:VEVENT
BEGIN:VEVENT
DTSTART;TZID=Asia/Tokyo:20230210T130000
DTEND;TZID=Asia/Tokyo:20230210T160000
DTSTAMP:20260425T103914
CREATED:20230202T012901Z
LAST-MODIFIED:20230202T012901Z
UID:10015639-1676034000-1676044800@wrm.osaka
SUMMARY:午後の卓球教室（13：00～16：00の部）
DESCRIPTION:平日限定！卓球教室では、コーチのレッスンや\nアドバイスを受けながら、参加者同士で卓球を沢山\n楽しめる教室になっています。 \nご予約不要！ \n【利用時間】13時～16時 \n※13時～15時の時までは、コーチがついて練習をサポートします。 \n15時～16時までは、参加者同士で沢山利用してください。 \nお問い合わせはこちら \n☎080-1405-6067 \ninfo@wrm.osaka \n 
URL:https://wrm.osaka/event/%e5%8d%88%e5%be%8c%e3%81%ae%e5%8d%93%e7%90%83%e6%95%99%e5%ae%a4%ef%bc%8813%ef%bc%9a00%ef%bd%9e16%ef%bc%9a00%e3%81%ae%e9%83%a8%ef%bc%89-24/
CATEGORIES:グループレッスン
END:VEVENT
BEGIN:VEVENT
DTSTART;TZID=Asia/Tokyo:20230210T100000
DTEND;TZID=Asia/Tokyo:20230210T130000
DTSTAMP:20260425T103914
CREATED:20230202T010527Z
LAST-MODIFIED:20230202T010527Z
UID:10015620-1676023200-1676034000@wrm.osaka
SUMMARY:午前の卓球教室 （10：00～13：00の部）
DESCRIPTION:平日限定！卓球教室では、コーチのレッスンや\nアドバイスを受けながら、参加者同士で卓球を沢山\n楽しめる教室になっています。 \nご予約不要！ \n【利用時間】10時～13時 \n※10時～12時までは、コーチがついて練習をサポートします。 \n12時～13時までは、参加者同士で沢山利用してください。 \nお問い合わせはこちら \n☎080-1405-6067 \ninfo@wrm.osaka \n  \n 
URL:https://wrm.osaka/event/%e5%8d%88%e5%89%8d%e3%81%ae%e5%8d%93%e7%90%83%e6%95%99%e5%ae%a4-%ef%bc%8810%ef%bc%9a00%ef%bd%9e13%ef%bc%9a00%e3%81%ae%e9%83%a8%ef%bc%89-23/
LOCATION:恵美須町 GANE-TTC\, 大阪府大阪市浪速区日本橋5-13-3\, 川北ビル５階
CATEGORIES:グループレッスン
END:VEVENT
BEGIN:VEVENT
DTSTART;TZID=Asia/Tokyo:20230209T130000
DTEND;TZID=Asia/Tokyo:20230209T160000
DTSTAMP:20260425T103914
CREATED:20230202T012853Z
LAST-MODIFIED:20230202T012853Z
UID:10015638-1675947600-1675958400@wrm.osaka
SUMMARY:午後の卓球教室（13：00～16：00の部）
DESCRIPTION:平日限定！卓球教室では、コーチのレッスンや\nアドバイスを受けながら、参加者同士で卓球を沢山\n楽しめる教室になっています。 \nご予約不要！ \n【利用時間】13時～16時 \n※13時～15時の時までは、コーチがついて練習をサポートします。 \n15時～16時までは、参加者同士で沢山利用してください。 \nお問い合わせはこちら \n☎080-1405-6067 \ninfo@wrm.osaka \n 
URL:https://wrm.osaka/event/%e5%8d%88%e5%be%8c%e3%81%ae%e5%8d%93%e7%90%83%e6%95%99%e5%ae%a4%ef%bc%8813%ef%bc%9a00%ef%bd%9e16%ef%bc%9a00%e3%81%ae%e9%83%a8%ef%bc%89-23/
CATEGORIES:グループレッスン
END:VEVENT
BEGIN:VEVENT
DTSTART;TZID=Asia/Tokyo:20230209T100000
DTEND;TZID=Asia/Tokyo:20230209T130000
DTSTAMP:20260425T103914
CREATED:20230202T010510Z
LAST-MODIFIED:20230202T010510Z
UID:10015619-1675936800-1675947600@wrm.osaka
SUMMARY:午前の卓球教室 （10：00～13：00の部）
DESCRIPTION:平日限定！卓球教室では、コーチのレッスンや\nアドバイスを受けながら、参加者同士で卓球を沢山\n楽しめる教室になっています。 \nご予約不要！ \n【利用時間】10時～13時 \n※10時～12時までは、コーチがついて練習をサポートします。 \n12時～13時までは、参加者同士で沢山利用してください。 \nお問い合わせはこちら \n☎080-1405-6067 \ninfo@wrm.osaka \n  \n 
URL:https://wrm.osaka/event/%e5%8d%88%e5%89%8d%e3%81%ae%e5%8d%93%e7%90%83%e6%95%99%e5%ae%a4-%ef%bc%8810%ef%bc%9a00%ef%bd%9e13%ef%bc%9a00%e3%81%ae%e9%83%a8%ef%bc%89-22/
LOCATION:恵美須町 GANE-TTC\, 大阪府大阪市浪速区日本橋5-13-3\, 川北ビル５階
CATEGORIES:グループレッスン
END:VEVENT
BEGIN:VEVENT
DTSTART;TZID=Asia/Tokyo:20230208T130000
DTEND;TZID=Asia/Tokyo:20230208T160000
DTSTAMP:20260425T103914
CREATED:20230202T012845Z
LAST-MODIFIED:20230202T012845Z
UID:10015637-1675861200-1675872000@wrm.osaka
SUMMARY:午後の卓球教室（13：00～16：00の部）
DESCRIPTION:平日限定！卓球教室では、コーチのレッスンや\nアドバイスを受けながら、参加者同士で卓球を沢山\n楽しめる教室になっています。 \nご予約不要！ \n【利用時間】13時～16時 \n※13時～15時の時までは、コーチがついて練習をサポートします。 \n15時～16時までは、参加者同士で沢山利用してください。 \nお問い合わせはこちら \n☎080-1405-6067 \ninfo@wrm.osaka \n 
URL:https://wrm.osaka/event/%e5%8d%88%e5%be%8c%e3%81%ae%e5%8d%93%e7%90%83%e6%95%99%e5%ae%a4%ef%bc%8813%ef%bc%9a00%ef%bd%9e16%ef%bc%9a00%e3%81%ae%e9%83%a8%ef%bc%89-22/
CATEGORIES:グループレッスン
END:VEVENT
BEGIN:VEVENT
DTSTART;TZID=Asia/Tokyo:20230208T100000
DTEND;TZID=Asia/Tokyo:20230208T130000
DTSTAMP:20260425T103914
CREATED:20230202T010501Z
LAST-MODIFIED:20230202T010501Z
UID:10015618-1675850400-1675861200@wrm.osaka
SUMMARY:午前の卓球教室 （10：00～13：00の部）
DESCRIPTION:平日限定！卓球教室では、コーチのレッスンや\nアドバイスを受けながら、参加者同士で卓球を沢山\n楽しめる教室になっています。 \nご予約不要！ \n【利用時間】10時～13時 \n※10時～12時までは、コーチがついて練習をサポートします。 \n12時～13時までは、参加者同士で沢山利用してください。 \nお問い合わせはこちら \n☎080-1405-6067 \ninfo@wrm.osaka \n  \n 
URL:https://wrm.osaka/event/%e5%8d%88%e5%89%8d%e3%81%ae%e5%8d%93%e7%90%83%e6%95%99%e5%ae%a4-%ef%bc%8810%ef%bc%9a00%ef%bd%9e13%ef%bc%9a00%e3%81%ae%e9%83%a8%ef%bc%89-21/
LOCATION:恵美須町 GANE-TTC\, 大阪府大阪市浪速区日本橋5-13-3\, 川北ビル５階
CATEGORIES:グループレッスン
END:VEVENT
BEGIN:VEVENT
DTSTART;TZID=Asia/Tokyo:20230207T130000
DTEND;TZID=Asia/Tokyo:20230207T160000
DTSTAMP:20260425T103914
CREATED:20230202T012837Z
LAST-MODIFIED:20230202T012837Z
UID:10015636-1675774800-1675785600@wrm.osaka
SUMMARY:午後の卓球教室（13：00～16：00の部）
DESCRIPTION:平日限定！卓球教室では、コーチのレッスンや\nアドバイスを受けながら、参加者同士で卓球を沢山\n楽しめる教室になっています。 \nご予約不要！ \n【利用時間】13時～16時 \n※13時～15時の時までは、コーチがついて練習をサポートします。 \n15時～16時までは、参加者同士で沢山利用してください。 \nお問い合わせはこちら \n☎080-1405-6067 \ninfo@wrm.osaka \n 
URL:https://wrm.osaka/event/%e5%8d%88%e5%be%8c%e3%81%ae%e5%8d%93%e7%90%83%e6%95%99%e5%ae%a4%ef%bc%8813%ef%bc%9a00%ef%bd%9e16%ef%bc%9a00%e3%81%ae%e9%83%a8%ef%bc%89-21/
CATEGORIES:グループレッスン
END:VEVENT
END:VCALENDAR