BEGIN:VCALENDAR
VERSION:2.0
PRODID:-//GANETTC - ECPv6.2.8.2//NONSGML v1.0//EN
CALSCALE:GREGORIAN
METHOD:PUBLISH
X-ORIGINAL-URL:https://wrm.osaka
X-WR-CALDESC:GANETTC のイベント
REFRESH-INTERVAL;VALUE=DURATION:PT1H
X-Robots-Tag:noindex
X-PUBLISHED-TTL:PT1H
BEGIN:VTIMEZONE
TZID:Asia/Tokyo
BEGIN:STANDARD
TZOFFSETFROM:+0900
TZOFFSETTO:+0900
TZNAME:JST
DTSTART:20260101T000000
END:STANDARD
END:VTIMEZONE
BEGIN:VEVENT
DTSTART;TZID=Asia/Tokyo:20260228T100000
DTEND;TZID=Asia/Tokyo:20260228T140000
DTSTAMP:20260424T053357
CREATED:20251221T042439Z
LAST-MODIFIED:20251221T042507Z
UID:10016017-1772272800-1772287200@wrm.osaka
SUMMARY:2/28　藤沢食品杯　初中級者 お肉争奪戦大会★レーティング1850までTTポイント3500までの方が対象
DESCRIPTION:藤沢食品杯　初中級者 お肉争奪戦大会 \n日時：2026年2月28日　10:00開始　14:00終了予定\n場所：恵美須町 GANE-TTC　（大阪府 大阪市 浪速区 日本橋５丁目１３－３ 川北ビル5階）\n試合形式：男女混合シングルス戦　５ゲームマッチ（３ゲーム先取）\n主催：GANE-TTC、PLATFOMR-5　５番線卓球場\n参加費：1\,800円冷房稼働時は+200円\nお申込み方法：当イベントページより「予約チケット」の購入 \n予選リーグ（3ゲームマッチ「2ゲーム先取」の可能性有り）→上位、下位に別れて決勝トーナメント戦（人数によっては決勝リーグ戦） \n※初中級レベルとガネが感じれなかった場合 \n★レーティング1850までTTポイント3500までの方が対象です \n次回から 藤沢食品杯　初中級者 お肉争奪戦大会こちらの大会には、参加できなくなり オープンの部に移って頂くことがございます。 \n協賛：藤沢食品様のご紹介\nhttps://tabelog.com/osaka/A2707/A270701/27077646/\n大阪府守口市日吉町１丁目７−１　太子橋今市駅から158m\n定休日　水曜日\n営業時間　10:00～19:00 \nhttps://www.youtube.com/watch?v=EnbsdO1pT8c
URL:https://wrm.osaka/event/2-28%e3%80%80%e8%97%a4%e6%b2%a2%e9%a3%9f%e5%93%81%e6%9d%af%e3%80%80%e5%88%9d%e4%b8%ad%e7%b4%9a%e8%80%85-%e3%81%8a%e8%82%89%e4%ba%89%e5%a5%aa%e6%88%a6%e5%a4%a7%e4%bc%9a%e2%98%85%e3%83%ac%e3%83%bc/
LOCATION:恵美須町 GANE-TTC\, 大阪府大阪市浪速区日本橋5-13-3\, 川北ビル５階
CATEGORIES:試合・大会
END:VEVENT
END:VCALENDAR