BEGIN:VCALENDAR
VERSION:2.0
PRODID:-//GANETTC - ECPv6.2.8.2//NONSGML v1.0//EN
CALSCALE:GREGORIAN
METHOD:PUBLISH
X-WR-CALNAME:GANETTC
X-ORIGINAL-URL:https://wrm.osaka
X-WR-CALDESC:GANETTC のイベント
REFRESH-INTERVAL;VALUE=DURATION:PT1H
X-Robots-Tag:noindex
X-PUBLISHED-TTL:PT1H
BEGIN:VTIMEZONE
TZID:Asia/Tokyo
BEGIN:STANDARD
TZOFFSETFROM:+0900
TZOFFSETTO:+0900
TZNAME:JST
DTSTART:20260101T000000
END:STANDARD
END:VTIMEZONE
BEGIN:VEVENT
DTSTART;TZID=Asia/Tokyo:20260222T100000
DTEND;TZID=Asia/Tokyo:20260222T140000
DTSTAMP:20260424T073015
CREATED:20251223T123330Z
LAST-MODIFIED:20251223T123356Z
UID:10016030-1771754400-1771768800@wrm.osaka
SUMMARY:2/22 ダブルス大会　藤沢食品杯　ハンバーグ争奪戦
DESCRIPTION:ダブルス大会 抽選会有り \n日時：2026年2月22日　10:00開始　14:00終了予定\n場所：大阪府 大阪市 浪速区 日本橋５丁目１３−４ 川北ビル 5F\n試合形式：ダブルス　５ゲームマッチ（３ゲーム先取） \n主催：大国町GANE-TTC、PLATFOMR-5　５番線卓球場\n参加費：1チーム2\,800円 冷房稼働時は+200円\nお申込み方法：当イベントページより「予約チケット」の購入 \n景品：2名分のハンバーグ　じゃんけん大会も行います。 \n協賛：藤沢食品様のご紹介\nhttps://tabelog.com/osaka/A2707/A270701/27077646/\n大阪府守口市日吉町１丁目７−１　太子橋今市駅から158m\n定休日　水曜日\n営業時間　10:00～19:00 \nhttps://www.youtube.com/watch?v=EnbsdO1pT8c
URL:https://wrm.osaka/event/2-22-%e3%83%80%e3%83%96%e3%83%ab%e3%82%b9%e5%a4%a7%e4%bc%9a%e3%80%80%e8%97%a4%e6%b2%a2%e9%a3%9f%e5%93%81%e6%9d%af%e3%80%80%e3%83%8f%e3%83%b3%e3%83%90%e3%83%bc%e3%82%b0%e4%ba%89%e5%a5%aa%e6%88%a6/
LOCATION:恵美須町 GANE-TTC\, 大阪府大阪市浪速区日本橋5-13-3\, 川北ビル５階
CATEGORIES:試合・大会
END:VEVENT
END:VCALENDAR