BEGIN:VCALENDAR
VERSION:2.0
PRODID:-//GANETTC - ECPv6.2.8.2//NONSGML v1.0//EN
CALSCALE:GREGORIAN
METHOD:PUBLISH
X-WR-CALNAME:GANETTC
X-ORIGINAL-URL:https://wrm.osaka
X-WR-CALDESC:GANETTC のイベント
REFRESH-INTERVAL;VALUE=DURATION:PT1H
X-Robots-Tag:noindex
X-PUBLISHED-TTL:PT1H
BEGIN:VTIMEZONE
TZID:Asia/Tokyo
BEGIN:STANDARD
TZOFFSETFROM:+0900
TZOFFSETTO:+0900
TZNAME:JST
DTSTART:20260101T000000
END:STANDARD
END:VTIMEZONE
BEGIN:VEVENT
DTSTART;TZID=Asia/Tokyo:20260103T100000
DTEND;TZID=Asia/Tokyo:20260103T170000
DTSTAMP:20260424T091525
CREATED:20251221T061556Z
LAST-MODIFIED:20251221T100946Z
UID:10016028-1767434400-1767459600@wrm.osaka
SUMMARY:1/3　お肉争奪戦×現役インターハイ選手参加！！
DESCRIPTION:1/3　お肉争奪戦×現役インターハイ選手参加！！ \n日時：2026年1月3日　10:00開始　17:00終了予定\n場所：大国町 GANE-TTC　（大阪府大阪市浪速区元町3-10-4　晋陽ビル4F）\n試合形式：男女混合シングルス戦　５ゲームマッチ（３ゲーム先取）\n主催：大国町GANE-TTC、PLATFOMR-5　５番線卓球場\n参加費：1\,800円\nお申込み方法：当イベントページより「予約チケット」の購入 \nステーキ肉争奪戦（ルール） \n予選リーグ（3ゲームマッチ「2ゲーム先取」の可能性有り）→上位、下位に別れて決勝トーナメント戦（人数によっては決勝リーグ戦） \n上位リーグ優勝者には、超豪華お肉セットをご用意！！ \n最強選手と対決（ルール） \nGANETTCが用意した最強選手と2セット先取で皆さん対決できます。もし勝つことが出来たらお肉を景品としてご用意させて頂きます。お楽しみに！！ \n  \n協賛：藤沢食品様のご紹介\nhttps://tabelog.com/osaka/A2707/A270701/27077646/\n大阪府守口市日吉町１丁目７−１　太子橋今市駅から158m\n定休日　水曜日\n営業時間　10:00～19:00 \nhttps://www.youtube.com/watch?v=EnbsdO1pT8c
URL:https://wrm.osaka/event/1-3%e3%80%80%e3%81%8a%e8%82%89%e4%ba%89%e5%a5%aa%e6%88%a6x%e7%8f%be%e5%bd%b9%e3%82%a4%e3%83%b3%e3%82%bf%e3%83%bc%e3%83%8f%e3%82%a4%e9%81%b8%e6%89%8b%e5%8f%82%e5%8a%a0%ef%bc%81%ef%bc%81/
LOCATION:恵美須町 GANE-TTC\, 大阪府大阪市浪速区日本橋5-13-3\, 川北ビル５階
CATEGORIES:試合・大会
END:VEVENT
END:VCALENDAR